BEGIN:VCALENDAR
VERSION:2.0
PRODID:-//Strona testowa - ECPv6.10.1.1//NONSGML v1.0//EN
CALSCALE:GREGORIAN
METHOD:PUBLISH
X-WR-CALNAME:Strona testowa
X-ORIGINAL-URL:https://test.gettingthingsdigital.com
X-WR-CALDESC:Events for Strona testowa
REFRESH-INTERVAL;VALUE=DURATION:PT1H
X-Robots-Tag:noindex
X-PUBLISHED-TTL:PT1H
BEGIN:VTIMEZONE
TZID:Europe/Warsaw
BEGIN:DAYLIGHT
TZOFFSETFROM:+0100
TZOFFSETTO:+0200
TZNAME:CEST
DTSTART:20250330T010000
END:DAYLIGHT
BEGIN:STANDARD
TZOFFSETFROM:+0200
TZOFFSETTO:+0100
TZNAME:CET
DTSTART:20251026T010000
END:STANDARD
END:VTIMEZONE
BEGIN:VEVENT
DTSTART;TZID=Europe/Warsaw:20250302T080000
DTEND;TZID=Europe/Warsaw:20250302T170000
DTSTAMP:20260420T080850
CREATED:20250226T093651Z
LAST-MODIFIED:20250226T093651Z
UID:95-1740902400-1740934800@test.gettingthingsdigital.com
SUMMARY:Topienie marzanny
DESCRIPTION:Opis wydarzenia
URL:https://test.gettingthingsdigital.com/wydarzenie/topienie-marzanny/
LOCATION:nadOdra\, Zielona Góra
CATEGORIES:Na zewnątrz
ATTACH;FMTTYPE=image/jpeg:https://test.gettingthingsdigital.com/wp-content/uploads/2025/02/topienie-marzanny.jpg
END:VEVENT
BEGIN:VEVENT
DTSTART;TZID=Europe/Warsaw:20250228T100000
DTEND;TZID=Europe/Warsaw:20250228T130000
DTSTAMP:20260420T080850
CREATED:20250225T115126Z
LAST-MODIFIED:20250226T093343Z
UID:70-1740736800-1740747600@test.gettingthingsdigital.com
SUMMARY:Pierwszy dzień wiosny w Smyku
DESCRIPTION:Jakiś opis tutaj
URL:https://test.gettingthingsdigital.com/wydarzenie/pierwszy-dzien-wiosny-w-smyku/
LOCATION:Sala zabaw Smyk w Galerii Plaza\, ul. Jana Matejki 48/49\, Poznań\, Wielkopolska\, 60-767\, Poland
CATEGORIES:W sali zabaw
END:VEVENT
BEGIN:VEVENT
DTSTART;TZID=Europe/Warsaw:20250226T080000
DTEND;TZID=Europe/Warsaw:20250226T170000
DTSTAMP:20260420T080850
CREATED:20250226T113939Z
LAST-MODIFIED:20250226T113939Z
UID:110-1740556800-1740589200@test.gettingthingsdigital.com
SUMMARY:Wydarzenie testowe
DESCRIPTION:
URL:https://test.gettingthingsdigital.com/wydarzenie/wydarzenie-testowe/
CATEGORIES:Na zewnątrz
END:VEVENT
END:VCALENDAR